BEGIN:VCALENDAR
VERSION:2.0
PRODID:-//RIGHTHERE//CALENDARIZE IT V3.2//EN
BEGIN:VEVENT
UID:2109-events@lag-wr-bayern.de
DTSTART;VALUE=DATE:20250617
DTEND;VALUE=DATE:20250617
DTSTAMP:20241118T134051Z
SUMMARY:Projekt AG in Berlin
END:VEVENT
END:VCALENDAR